BEGIN:VCALENDAR
VERSION:2.0
PRODID:-//CiviCRM//NONSGML CiviEvent iCal//EN
METHOD:PUBLISH

BEGIN:VEVENT
UID:CiviCRM_EventID_2585_c4583aa748d7349aa84c6956ecfacab3@arcsfoundation.org
SUMMARY:Save the Date: Illinois Chapter Members Annual Mee
 ting
DESCRIPTION:Join us for our 2026 Annual Members Meeting for th
 e ARCS Foundation Illinois Chapter.\n \n \n \n Lun
 cheon with keynote speaker Professor Martin Burke\
 , Department of Chemistry\, University of Illinois
  Urbana-Champaign.\n \n 
CATEGORIES:Event
CALSCALE:GREGORIAN
TZID:UTC
DTSTAMP;TZID=UTC:20260616T110000
DTSTART;TZID=UTC:20260616T110000
DTEND;TZID=UTC:20260616T140000
URL:https://arcsfoundation.org/civicrm/event/info?reset=1&id=2585
END:VEVENT
END:VCALENDAR
