BEGIN:VCALENDAR
VERSION:2.0
PRODID:-//CiviCRM//NONSGML CiviEvent iCal//EN
METHOD:PUBLISH

BEGIN:VEVENT
UID:CiviCRM_EventID_2635_c4583aa748d7349aa84c6956ecfacab3@arcsfoundation.org
SUMMARY:Honolulu 2026 ARCS Scholar Banquet
DESCRIPTION:Meet 21 exceptional UH Mānoa doctoral students\n \
 n and celebrate 2026 Scientist of the Year Dr. Meg
 an Donahue\n \n at Honolulu Chapter's\n \n \n \n R
 each for the Stars\n \n 2026 Scholar Awards Banque
 t\n \n \n \n Our newest Honolulu ARCS Scholars wil
 l receive their medals and award checks.\n \n Two 
 will also receive Scholar of the Year honors based
  on their presentations\n \n at the ARCS Scholar R
 esearch Symposium (https://honolulu.arcsfoundation
 .org/civicrm/event/info?id=2634&reset=1) on April 
 11.\n \n \n \n Please RSVP by April 20\n \n 
CATEGORIES:Event
CALSCALE:GREGORIAN
TZID:UTC
DTSTAMP;TZID=UTC:20260504T173000
DTSTART;TZID=UTC:20260504T173000
DTEND;TZID=UTC:20260504T203000
LOCATION:2909 Kalakaua Ave\n Outrigger Canoe Club\n Honolul
 u\, HI 96815\n United States\n 
URL:https://arcsfoundation.org/civicrm/event/info?reset=1&id=2635
END:VEVENT
END:VCALENDAR
