BEGIN:VCALENDAR
VERSION:2.0
PRODID:-//CiviCRM//NONSGML CiviEvent iCal//EN
METHOD:PUBLISH

BEGIN:VEVENT
UID:CiviCRM_EventID_2675_c4583aa748d7349aa84c6956ecfacab3@arcsfoundation.org
SUMMARY:2026 ARCS Phoenix Chapter Scholar Awards Dinner - 
 MEMBERS AND FRIENDS REGISTRATION
DESCRIPTION: \n \n \n \n \n \n \n \n \n \n \n          \n \n \
 n Friday\, April 24\, 2026 \n \n \n \n Reception a
 nd Scholar Poster Presentation at 6:00 pm\n \n Din
 ner Seating at 7:00 pm\n \n \n \n Business Attire 
 \n \n \n \n Adobe Bar and Grille\n \n at the Arizo
 na Biltmore Golf Club\n \n 2400 Biltmore Estates D
 rive\, Phoenix\n \n  \n \n \n \n Table Sponsor - $
 5\,000 (Table of ten)\n \n Member - $500 (includes
  one guest)\n \n Guests - $250 per person \n \n Sc
 holar and one guest - complimentary\n \n \n \n \n 
 \n Donation Levels\n \n Summa Cum Laude - $8\,500\
 n \n With Highest Honors - $1\,000\n \n Graduate -
  $500\n \n Friend of ARCS - $300\n \n Scholar Meal
  Underwriting - $175/meal\n \n \n \n The non-deduc
 tible portion of each ticket is $175\n \n \n \n Fo
 r more information email: phoenix@arcsfoundation.o
 rg (mailto:phoenix@arcsfoundation.org?subject=Scho
 lar%20Awards%20Dinner%20Event%20Registration)\n \n
  \n \n \n \n \n \n \n \n \n \n \n ARCS Foundation\
 , Inc.\, Phoenix Chapter is a nonprofit 501(c)(3) 
 Corporation             Tax ID 86-0319947\n \n  \n
  \n \n \n \n \n 
CATEGORIES:Fundraiser
CALSCALE:GREGORIAN
TZID:UTC
DTSTAMP;TZID=UTC:20260424T180000
DTSTART;TZID=UTC:20260424T180000
DTEND;TZID=UTC:20260424T220000
URL:https://arcsfoundation.org/civicrm/event/info?reset=1&id=2675
END:VEVENT
END:VCALENDAR
